{
 "currentVersion": 11.5,
 "serviceDescription": "Ayres Associates provided the Village of Weston, Wisconsin with digital, color orthoimagery services in 2015 as part of WROC. Aerial imagery was collected on April 27th using a Microsoft Vexcel UltraCam Eagle sensor mounted in a fixed-wing aircraft. Aerial imagery was collected to support 0.25 ground sample distance (GSD) orthoimagery to meet ASPRS Class II horizontal accuracy specifications at 1\" = 50' map scale. The horizontal accuracy meets or exceeds 1.0 foot RMSE using the National Standards for Spatial Data Accuracy (NSSDA) standards. Resultant orthoimagery was rectified to a DTM created from existing LiDAR data. Orthoimagery was delivered in PLSS section GeoTiff and MrSID tiles and a project-wide MrSID mosaic. The orthoimagery was delivered according to a four-section tiling schematic. The total project area is 27.2 sq. miles, plus a 500-ft buffer around the city boundary. Geographic Description: The Village of Weston is located in north-central Wisconsin, in Marathon County and is part of the Wausau Metropolitan Area. Supplemental Information: The Wisconsin Regional Orthophotography Consortium (WROC) is a multi-entity group led by regional planning commissions (RPCs) and WROC representatives from Ayres Associates. The goal of the consortium is to build and sustain a multi-participant program to acquire digital orthoimagery and elevation data throughout Wisconsin. Orthoimagery was collected for the Village of Weston in 2015 to provide consistent deliverable products and accuracy standards for each of the participating entities.",
 "serviceItemId": "14d8efc326804a41b86b863f770605cb",
 "name": "Raster/WestonImagery_2015",
 "description": "Ayres Associates provided the Village of Weston, Wisconsin with digital, color orthoimagery services in 2015 as part of WROC. Aerial imagery was collected on April 27th using a Microsoft Vexcel UltraCam Eagle sensor mounted in a fixed-wing aircraft. Aerial imagery was collected to support 0.25 ground sample distance (GSD) orthoimagery to meet ASPRS Class II horizontal accuracy specifications at 1\" = 50' map scale. The horizontal accuracy meets or exceeds 1.0 foot RMSE using the National Standards for Spatial Data Accuracy (NSSDA) standards. Resultant orthoimagery was rectified to a DTM created from existing LiDAR data. Orthoimagery was delivered in PLSS section GeoTiff and MrSID tiles and a project-wide MrSID mosaic. The orthoimagery was delivered according to a four-section tiling schematic. The total project area is 27.2 sq. miles, plus a 500-ft buffer around the city boundary. Geographic Description: The Village of Weston is located in north-central Wisconsin, in Marathon County and is part of the Wausau Metropolitan Area. Supplemental Information: The Wisconsin Regional Orthophotography Consortium (WROC) is a multi-entity group led by regional planning commissions (RPCs) and WROC representatives from Ayres Associates. The goal of the consortium is to build and sustain a multi-participant program to acquire digital orthoimagery and elevation data throughout Wisconsin. Orthoimagery was collected for the Village of Weston in 2015 to provide consistent deliverable products and accuracy standards for each of the participating entities.",
 "extent": {
  "xmin": 283763.642,
  "ymin": 164914.491,
  "xmax": 317639.892,
  "ymax": 199607.741,
  "spatialReference": {
   "wkid": 103436,
   "latestWkid": 8150
  }
 },
 "initialExtent": {
  "xmin": 283763.642,
  "ymin": 164914.491,
  "xmax": 317639.892,
  "ymax": 199607.741,
  "spatialReference": {
   "wkid": 103436,
   "latestWkid": 8150
  }
 },
 "fullExtent": {
  "xmin": 283763.642,
  "ymin": 164914.491,
  "xmax": 317639.892,
  "ymax": 199607.741,
  "spatialReference": {
   "wkid": 103436,
   "latestWkid": 8150
  }
 },
 "sortableFields": "",
 "bandCount": 5,
 "pixelType": "U8",
 "minValues": [
  0,
  0,
  0,
  0,
  0
 ],
 "maxValues": [
  216,
  217,
  212,
  230,
  255
 ],
 "meanValues": [
  92.401009657594,
  86.781387181738,
  73.611062335382,
  115.82484635645,
  237.56848112379
 ],
 "stdvValues": [
  39.626760506435,
  35.995970477444,
  31.353708693351,
  42.062832478018,
  61.838182786067
 ],
 "serviceProperties": "Center<\/MosaicMethod>First<\/MosaicOperator>true<\/SortAscending><\/LockImageID><\/TileOrderField>0<\/TileOrderBase>0.000000<\/AvgImageSpacingX>0.000000<\/AvgImageSpacingY>0.0<\/ViewPointX>0.0<\/ViewPointY>0.0<\/ViewPointDefShiftX>0.0<\/ViewPointDefShiftY>None<\/CompressionMethod>75<\/CompressionQuality>0.010000<\/CompressionTolerance>Bilinear<\/SamplingMethod><\/ImageServiceProperties><\/ImageServer>",
 "allowedFields": "",
 "hasMultidimensions": false,
 "pixelSizeX": 0.25,
 "pixelSizeY": 0.25,
 "meanPixelSize": 0.07620015240030481,
 "datasetFormat": "MrSID",
 "uncompressedSize": 94022176825,
 "blockWidth": 1024,
 "blockHeight": 128,
 "compressionType": "Wavelet (MG4)",
 "bandNames": [
  "Band_1",
  "Band_2",
  "Band_3",
  "Band_4",
  "Band_5"
 ],
 "allowCopy": true,
 "allowAnalysis": true,
 "itemAccess": false,
 "inspectionCapabilities": "",
 "minPixelSize": 0,
 "maxPixelSize": 0,
 "copyrightText": "",
 "serviceDataType": "esriImageServiceDataTypeGeneric",
 "serviceSourceType": "esriImageServiceSourceTypeDataset",
 "objectIdField": "",
 "fields": [],
 "capabilities": "Image,Metadata,Mensuration",
 "defaultMosaicMethod": "Center",
 "allowedMosaicMethods": "",
 "sortField": "",
 "sortValue": null,
 "sortAscending": true,
 "mosaicOperator": "First",
 "defaultCompressionQuality": 75,
 "defaultResamplingMethod": "Bilinear",
 "maxImageHeight": 4100,
 "maxImageWidth": 15000,
 "allowRasterFunction": true,
 "rasterFunctionInfos": [
  {
   "name": "None",
   "description": "",
   "help": ""
  }
 ],
 "rasterTypeInfos": [
  {
   "name": "Raster Dataset",
   "description": "Supports all ArcGIS Raster Datasets",
   "help": ""
  }
 ],
 "mensurationCapabilities": "Basic",
 "hasHistograms": true,
 "hasColormap": false,
 "hasRasterAttributeTable": false,
 "minScale": 0,
 "maxScale": 0,
 "exportTilesAllowed": false,
 "supportsStatistics": false,
 "supportsAdvancedQueries": false,
 "editFieldsInfo": null,
 "ownershipBasedAccessControlForRasters": null,
 "allowComputeTiePoints": false,
 "useStandardizedQueries": true,
 "advancedQueryCapabilities": {
  "useStandardizedQueries": true,
  "supportsStatistics": false,
  "supportsOrderBy": false,
  "supportsDistinct": false,
  "supportsPagination": false
 },
 "spatialReference": {
  "wkid": 103436,
  "latestWkid": 8150
 }
}
