View In:
ArcGIS JavaScript
ArcGIS Online Map Viewer
ArcGIS Earth
Service Description: Ayres Associates provided the Village of Weston, Wisconsin with digital, color orthoimagery services in 2015 as part of WROC. Aerial imagery was collected on April 27th using a Microsoft Vexcel UltraCam Eagle sensor mounted in a fixed-wing aircraft. Aerial imagery was collected to support 0.25 ground sample distance (GSD) orthoimagery to meet ASPRS Class II horizontal accuracy specifications at 1" = 50' map scale. The horizontal accuracy meets or exceeds 1.0 foot RMSE using the National Standards for Spatial Data Accuracy (NSSDA) standards. Resultant orthoimagery was rectified to a DTM created from existing LiDAR data. Orthoimagery was delivered in PLSS section GeoTiff and MrSID tiles and a project-wide MrSID mosaic. The orthoimagery was delivered according to a four-section tiling schematic. The total project area is 27.2 sq. miles, plus a 500-ft buffer around the city boundary. Geographic Description: The Village of Weston is located in north-central Wisconsin, in Marathon County and is part of the Wausau Metropolitan Area. Supplemental Information: The Wisconsin Regional Orthophotography Consortium (WROC) is a multi-entity group led by regional planning commissions (RPCs) and WROC representatives from Ayres Associates. The goal of the consortium is to build and sustain a multi-participant program to acquire digital orthoimagery and elevation data throughout Wisconsin. Orthoimagery was collected for the Village of Weston in 2015 to provide consistent deliverable products and accuracy standards for each of the participating entities.
Name: Raster/WestonImagery_2015
Description: Ayres Associates provided the Village of Weston, Wisconsin with digital, color orthoimagery services in 2015 as part of WROC. Aerial imagery was collected on April 27th using a Microsoft Vexcel UltraCam Eagle sensor mounted in a fixed-wing aircraft. Aerial imagery was collected to support 0.25 ground sample distance (GSD) orthoimagery to meet ASPRS Class II horizontal accuracy specifications at 1" = 50' map scale. The horizontal accuracy meets or exceeds 1.0 foot RMSE using the National Standards for Spatial Data Accuracy (NSSDA) standards. Resultant orthoimagery was rectified to a DTM created from existing LiDAR data. Orthoimagery was delivered in PLSS section GeoTiff and MrSID tiles and a project-wide MrSID mosaic. The orthoimagery was delivered according to a four-section tiling schematic. The total project area is 27.2 sq. miles, plus a 500-ft buffer around the city boundary. Geographic Description: The Village of Weston is located in north-central Wisconsin, in Marathon County and is part of the Wausau Metropolitan Area. Supplemental Information: The Wisconsin Regional Orthophotography Consortium (WROC) is a multi-entity group led by regional planning commissions (RPCs) and WROC representatives from Ayres Associates. The goal of the consortium is to build and sustain a multi-participant program to acquire digital orthoimagery and elevation data throughout Wisconsin. Orthoimagery was collected for the Village of Weston in 2015 to provide consistent deliverable products and accuracy standards for each of the participating entities.
Single Fused Map Cache: false
Extent:
XMin: 283763.642
YMin: 164914.491
XMax: 317639.892
YMax: 199607.741
Spatial Reference: 103436
(8150)
LatestVCSWkid(0)
Initial Extent:
XMin: 283763.642
YMin: 164914.491
XMax: 317639.892
YMax: 199607.741
Spatial Reference: 103436
(8150)
LatestVCSWkid(0)
Full Extent:
XMin: 283763.642
YMin: 164914.491
XMax: 317639.892
YMax: 199607.741
Spatial Reference: 103436
(8150)
LatestVCSWkid(0)
Pixel Size X: 0.25
Pixel Size Y: 0.25
Band Count: 5
Pixel Type: U8
RasterFunction Infos: {"rasterFunctionInfos": [{
"name": "None",
"description": "",
"help": ""
}]}
Mensuration Capabilities: Basic
Inspection Capabilities:
Has Histograms: true
Has Colormap: false
Has Multi Dimensions : false
Rendering Rule:
Min Scale: 0
Max Scale: 0
Copyright Text:
Service Data Type: esriImageServiceDataTypeGeneric
Min Values: 0, 0, 0, 0, 0
Max Values: 216, 217, 212, 230, 255
Mean Values: 92.401009657594, 86.781387181738, 73.611062335382, 115.82484635645, 237.56848112379
Standard Deviation Values: 39.626760506435, 35.995970477444, 31.353708693351, 42.062832478018, 61.838182786067
Object ID Field:
Fields:
None
Default Mosaic Method: Center
Allowed Mosaic Methods:
SortField:
SortValue: null
Mosaic Operator: First
Default Compression Quality: 75
Default Resampling Method: Bilinear
Max Record Count: null
Max Image Height: 4100
Max Image Width: 15000
Max Download Image Count: null
Max Mosaic Image Count: null
Allow Raster Function: true
Allow Copy: true
Allow Analysis: true
Allow Compute TiePoints: false
Supports Statistics: false
Supports Advanced Queries: false
Use StandardizedQueries: true
Raster Type Infos:
Name: Raster Dataset
Description: Supports all ArcGIS Raster Datasets
Help:
Has Raster Attribute Table: false
Edit Fields Info: null
Ownership Based AccessControl For Rasters: null
Child Resources:
Info
Histograms
Statistics
Key Properties
Legend
Raster Function Infos
Supported Operations:
Export Image
Identify
Measure
Compute Histograms
Compute Statistics Histograms
Get Samples
Compute Class Statistics
Query Boundary
Compute Pixel Location
Compute Angles
Validate
Project